BEGIN:VCALENDAR
VERSION:2.0
PRODID:-//tronics4you//events//DE
CALSCALE:GREGORIAN
METHOD:PUBLISH
X-WR-CALNAME:Tronics4you Events
X-WR-TIMEZONE:Europe/Amsterdam
BEGIN:VEVENT
UID:102@tronics4you.ch
DTSTAMP:20260423T083339Z
DTSTART;TZID=Europe/Amsterdam:20260607T100000
DTEND;TZID=Europe/Amsterdam:20260607T160000
SUMMARY:9. VINYLBÖRSE IN WALD ZH (Platten- und/oder CD-Börse)
LOCATION:in der herrschaftlichen Villa Flora und der Parkanlage
DESCRIPTION:Thema: Platten- und/oder CD-Börse\n\n10.00 bis 16.00 Uhr\nEI
 NTRITT FREI\n\nLink: https://www.villaflora-wald.ch/vinylboerse/\n\nEinge
 reicht von: Hamzian‘s Record Shop
CATEGORIES:Platten- und/oder CD-Börse
URL:https://www.villaflora-wald.ch/vinylboerse/
END:VEVENT
END:VCALENDAR
