BEGIN:VCALENDAR
VERSION:2.0
PRODID:-//tronics4you//events//DE
CALSCALE:GREGORIAN
METHOD:PUBLISH
X-WR-CALNAME:Tronics4you Events
X-WR-TIMEZONE:Europe/Amsterdam
BEGIN:VEVENT
UID:103@tronics4you.ch
DTSTAMP:20260423T085055Z
DTSTART;TZID=Europe/Amsterdam:20261024T100000
DTEND;TZID=Europe/Amsterdam:20261024T180000
SUMMARY:29. Internationale SCHALLPLATTEN- DVD- und CD-Börse - 24. + 25.1
 0.26 (Platten- und/oder CD-Börse)
LOCATION:Hotel Spirgarten - Theatersaal\, Zürich-Altstetten
DESCRIPTION:Thema: Platten- und/oder CD-Börse\n\nAlles für Vinyl- und M
 usikliebhaber!\n\nEingereicht von: tronics4you
CATEGORIES:Platten- und/oder CD-Börse
END:VEVENT
END:VCALENDAR
