BEGIN:VCALENDAR
VERSION:2.0
PRODID:-//tronics4you//events//DE
CALSCALE:GREGORIAN
METHOD:PUBLISH
X-WR-CALNAME:Tronics4you Events
X-WR-TIMEZONE:Europe/Amsterdam
BEGIN:VEVENT
UID:105@tronics4you.ch
DTSTAMP:20260423T085120Z
DTSTART;TZID=Europe/Amsterdam:20260426T100000
DTEND;TZID=Europe/Amsterdam:20260426T160000
SUMMARY:5. Bodensee Schallplattenbörse Rorschach (Platten- und/oder CD-B
 örse)
LOCATION:INDUSTRIE36\, Rorschach\nEintritt 5.-
DESCRIPTION:Thema: Platten- und/oder CD-Börse\n\nLink: https://www.indus
 trie36.events/event/schallplattenboerse-2026/\n\nEingereicht von: tronics
 4you
CATEGORIES:Platten- und/oder CD-Börse
URL:https://www.industrie36.events/event/schallplattenboerse-2026/
END:VEVENT
END:VCALENDAR
