BEGIN:VCALENDAR
VERSION:2.0
PRODID:-//tronics4you//events//DE
CALSCALE:GREGORIAN
METHOD:PUBLISH
X-WR-CALNAME:Tronics4you Events
X-WR-TIMEZONE:Europe/Amsterdam
BEGIN:VEVENT
UID:107@tronics4you.ch
DTSTAMP:20260423T085054Z
DTSTART;TZID=Europe/Amsterdam:20260503T100000
DTEND;TZID=Europe/Amsterdam:20260503T160000
SUMMARY:Schallplatten Börse Baden (Platten- und/oder CD-Börse)
LOCATION:Alte Schmiede\, Baden
DESCRIPTION:Thema: Platten- und/oder CD-Börse\n\nEintritt frei\n\n10.00 
 bis 16.00 UHR\n\nLink: https://www.plattenboerse.ch\n\nEingereicht von: t
 ronics4you
CATEGORIES:Platten- und/oder CD-Börse
URL:https://www.plattenboerse.ch
END:VEVENT
END:VCALENDAR
