BEGIN:VCALENDAR
VERSION:2.0
PRODID:-//tronics4you//events//DE
CALSCALE:GREGORIAN
METHOD:PUBLISH
X-WR-CALNAME:Tronics4you Events
X-WR-TIMEZONE:Europe/Amsterdam
BEGIN:VEVENT
UID:108@tronics4you.ch
DTSTAMP:20260423T083355Z
DTSTART;TZID=Europe/Amsterdam:20260503T100000
DTEND;TZID=Europe/Amsterdam:20260503T150000
SUMMARY:Schallplattenbörse \nin der Lokwelt Freilassing (Platten- und/od
 er CD-Börse)
LOCATION:Lokwelt Freilassing\, Gleisstand I & II
DESCRIPTION:Thema: Platten- und/oder CD-Börse\n\n10:00Uhr - 15.00 Uhr\n\
 nLink: https://www.freilassing.de/veranstaltung/schallplattenboerse/\n\nE
 ingereicht von: tronics4you
CATEGORIES:Platten- und/oder CD-Börse
URL:https://www.freilassing.de/veranstaltung/schallplattenboerse/
END:VEVENT
END:VCALENDAR
