BEGIN:VCALENDAR
VERSION:2.0
PRODID:-//tronics4you//events//DE
CALSCALE:GREGORIAN
METHOD:PUBLISH
X-WR-CALNAME:Tronics4you Events
X-WR-TIMEZONE:Europe/Amsterdam
BEGIN:VEVENT
UID:112@tronics4you.ch
DTSTAMP:20260420T095202Z
DTSTART;TZID=Europe/Amsterdam:20260419T110000
DTEND;TZID=Europe/Amsterdam:20260419T170000
SUMMARY:Vinyl Sunday\, Markthalle Basel (HiFi-Messe)
LOCATION:Vinyl Sunday in der Markthalle Basel
DESCRIPTION:Thema: HiFi-Messe\n\nvom 19. April 2026\n\nLink: https://www.
 markthallebasel.ch\n\nEingereicht von: tronics4you
CATEGORIES:HiFi-Messe
URL:https://www.markthallebasel.ch
END:VEVENT
END:VCALENDAR
