BEGIN:VCALENDAR
VERSION:2.0
PRODID:-//tronics4you//events//DE
CALSCALE:GREGORIAN
METHOD:PUBLISH
X-WR-CALNAME:Tronics4you Events
X-WR-TIMEZONE:Europe/Amsterdam
BEGIN:VEVENT
UID:113@tronics4you.ch
DTSTAMP:20260420T095202Z
DTSTART;TZID=Europe/Amsterdam:20260411T110000
DTEND;TZID=Europe/Amsterdam:20260411T160000
SUMMARY:5. Vinyl Flohmi Bern (HiFi-Messe)
LOCATION:5. Vinyl Flohmi im Buffet Nord\, Bern
DESCRIPTION:Thema: HiFi-Messe\n\nvom 11. April 2026\n\nLink: https://www.
 buffetnord.ch\n\nEingereicht von: tronics4you
CATEGORIES:HiFi-Messe
URL:https://www.buffetnord.ch
END:VEVENT
END:VCALENDAR
