BEGIN:VCALENDAR
VERSION:2.0
PRODID:-//tronics4you//events//DE
CALSCALE:GREGORIAN
METHOD:PUBLISH
X-WR-CALNAME:Tronics4you Events
X-WR-TIMEZONE:Europe/Amsterdam
BEGIN:VEVENT
UID:114@tronics4you.ch
DTSTAMP:20260420T095201Z
DTSTART;TZID=Europe/Amsterdam:20260616T110000
DTEND;TZID=Europe/Amsterdam:20260616T160000
SUMMARY:VINY-FLOHMI  REGENSDORF (Platten- und/oder CD-Börse)
LOCATION:Zentrumsplatz Regensdorf
DESCRIPTION:Thema: Platten- und/oder CD-Börse\n\nKontakt Soziokultur\n\n
 Link: https://www.smart-regensdorf.ch/de/belebung-zenti-platz/participant
 /survey-document-groups/12673\n\nEingereicht von: tronics4you
CATEGORIES:Platten- und/oder CD-Börse
URL:https://www.smart-regensdorf.ch/de/belebung-zenti-platz/participant/s
 urvey-document-groups/12673
END:VEVENT
END:VCALENDAR
