BEGIN:VCALENDAR
VERSION:2.0
PRODID:-//tronics4you//events//DE
CALSCALE:GREGORIAN
METHOD:PUBLISH
X-WR-CALNAME:Tronics4you Events
X-WR-TIMEZONE:Europe/Amsterdam
BEGIN:VEVENT
UID:115@tronics4you.ch
DTSTAMP:20260420T095202Z
DTSTART;TZID=Europe/Amsterdam:20260425T100000
DTEND;TZID=Europe/Amsterdam:20260425T170000
SUMMARY:68. Berner CD- & Schallplattenbörse (Platten- und/oder CD-Börse
 )
LOCATION:Eventlokal Sternensaal\, Bern-Bümpliz
DESCRIPTION:Thema: Platten- und/oder CD-Börse\n\nKontaktnummer für Info
 s\, Booking + LP-Ankauf\n\nLink: https://www.bernerschallplattenboerse.ch
 \n\nEingereicht von: tronics4you
CATEGORIES:Platten- und/oder CD-Börse
URL:https://www.bernerschallplattenboerse.ch
END:VEVENT
END:VCALENDAR
