BEGIN:VCALENDAR
VERSION:2.0
PRODID:-//tronics4you//events//DE
CALSCALE:GREGORIAN
METHOD:PUBLISH
X-WR-CALNAME:Tronics4you Events
X-WR-TIMEZONE:Europe/Amsterdam
BEGIN:VEVENT
UID:116@tronics4you.ch
DTSTAMP:20260420T095201Z
DTSTART;TZID=Europe/Amsterdam:20261111T110000
DTEND;TZID=Europe/Amsterdam:20261111T160000
SUMMARY:7. Schaffhauser VINYL BÖRSE\nAn- & Verkauf (Platten- und/oder CD
 -Börse)
LOCATION:KAMMGARN\, SCHAFFHAUSEN
DESCRIPTION:Thema: Platten- und/oder CD-Börse\n\n11.00 - 16.00 Uhr\, Ein
 tritt FREI\, mit Barbetrieb\n\nLink: https://www.kammgarn.ch/event/vinylb
 oerse-7/\n\nEingereicht von: tronics4you
CATEGORIES:Platten- und/oder CD-Börse
URL:https://www.kammgarn.ch/event/vinylboerse-7/
END:VEVENT
END:VCALENDAR
